BEGIN:VCALENDAR
VERSION:2.0
PRODID:-//Ballina Surf Club - ECPv6.15.20//NONSGML v1.0//EN
CALSCALE:GREGORIAN
METHOD:PUBLISH
X-WR-CALNAME:Ballina Surf Club
X-ORIGINAL-URL:https://ballinasurfclub.com.au
X-WR-CALDESC:Events for Ballina Surf Club
REFRESH-INTERVAL;VALUE=DURATION:PT1H
X-Robots-Tag:noindex
X-PUBLISHED-TTL:PT1H
BEGIN:VTIMEZONE
TZID:Australia/Sydney
BEGIN:STANDARD
TZOFFSETFROM:+1100
TZOFFSETTO:+1000
TZNAME:AEST
DTSTART:20210403T160000
END:STANDARD
BEGIN:DAYLIGHT
TZOFFSETFROM:+1000
TZOFFSETTO:+1100
TZNAME:AEDT
DTSTART:20211002T160000
END:DAYLIGHT
BEGIN:STANDARD
TZOFFSETFROM:+1100
TZOFFSETTO:+1000
TZNAME:AEST
DTSTART:20220402T160000
END:STANDARD
BEGIN:DAYLIGHT
TZOFFSETFROM:+1000
TZOFFSETTO:+1100
TZNAME:AEDT
DTSTART:20221001T160000
END:DAYLIGHT
BEGIN:STANDARD
TZOFFSETFROM:+1100
TZOFFSETTO:+1000
TZNAME:AEST
DTSTART:20230401T160000
END:STANDARD
BEGIN:DAYLIGHT
TZOFFSETFROM:+1000
TZOFFSETTO:+1100
TZNAME:AEDT
DTSTART:20230930T160000
END:DAYLIGHT
END:VTIMEZONE
BEGIN:VEVENT
DTSTART;VALUE=DATE:20220302
DTEND;VALUE=DATE:20220304
DTSTAMP:20260424T114037
CREATED:20210628T104438Z
LAST-MODIFIED:20210628T114517Z
UID:51275-1646179200-1646351999@ballinasurfclub.com.au
SUMMARY:2022 NSW Championships - Masters
DESCRIPTION:The 2022 NSW Surf Life Saving Championships will be hosted by the Sydney Northern Beaches Branch. \nMore information to come closer to the date.
URL:https://ballinasurfclub.com.au/events/2022-nsw-surf-life-saving-championships-masters/
LOCATION:Sydney Northern Beaches
CATEGORIES:Beach Events,Water Events
ATTACH;FMTTYPE=image/jpeg:https://ballinasurfclub.com.au/wp-content/uploads/2021/06/eventBG_surfSports1.jpg
END:VEVENT
BEGIN:VEVENT
DTSTART;VALUE=DATE:20220304
DTEND;VALUE=DATE:20220307
DTSTAMP:20260424T114037
CREATED:20210628T104451Z
LAST-MODIFIED:20210628T114445Z
UID:51277-1646352000-1646611199@ballinasurfclub.com.au
SUMMARY:2022 NSW Championships U17-Open
DESCRIPTION:The 2022 NSW Surf Life Saving Championships will be hosted by the Sydney Northern Beaches Branch. \nMore information to come closer to the date.
URL:https://ballinasurfclub.com.au/events/2022-nsw-surf-life-saving-championships-u17-open/
LOCATION:Sydney Northern Beaches
CATEGORIES:Beach Events,Water Events
ATTACH;FMTTYPE=image/jpeg:https://ballinasurfclub.com.au/wp-content/uploads/2021/06/eventBG_surfSports1.jpg
END:VEVENT
END:VCALENDAR