BEGIN:VCALENDAR
VERSION:2.0
PRODID:-//Ballina Surf Club - ECPv6.15.20//NONSGML v1.0//EN
CALSCALE:GREGORIAN
METHOD:PUBLISH
X-WR-CALNAME:Ballina Surf Club
X-ORIGINAL-URL:https://ballinasurfclub.com.au
X-WR-CALDESC:Events for Ballina Surf Club
REFRESH-INTERVAL;VALUE=DURATION:PT1H
X-Robots-Tag:noindex
X-PUBLISHED-TTL:PT1H
BEGIN:VTIMEZONE
TZID:Australia/Sydney
BEGIN:STANDARD
TZOFFSETFROM:+1100
TZOFFSETTO:+1000
TZNAME:AEST
DTSTART:20200404T160000
END:STANDARD
BEGIN:DAYLIGHT
TZOFFSETFROM:+1000
TZOFFSETTO:+1100
TZNAME:AEDT
DTSTART:20201003T160000
END:DAYLIGHT
BEGIN:STANDARD
TZOFFSETFROM:+1100
TZOFFSETTO:+1000
TZNAME:AEST
DTSTART:20210403T160000
END:STANDARD
BEGIN:DAYLIGHT
TZOFFSETFROM:+1000
TZOFFSETTO:+1100
TZNAME:AEDT
DTSTART:20211002T160000
END:DAYLIGHT
BEGIN:STANDARD
TZOFFSETFROM:+1100
TZOFFSETTO:+1000
TZNAME:AEST
DTSTART:20220402T160000
END:STANDARD
BEGIN:DAYLIGHT
TZOFFSETFROM:+1000
TZOFFSETTO:+1100
TZNAME:AEDT
DTSTART:20221001T160000
END:DAYLIGHT
BEGIN:STANDARD
TZOFFSETFROM:+1100
TZOFFSETTO:+1000
TZNAME:AEST
DTSTART:20230401T160000
END:STANDARD
BEGIN:DAYLIGHT
TZOFFSETFROM:+1000
TZOFFSETTO:+1100
TZNAME:AEDT
DTSTART:20230930T160000
END:DAYLIGHT
END:VTIMEZONE
BEGIN:VTIMEZONE
TZID:UTC
BEGIN:STANDARD
TZOFFSETFROM:+0000
TZOFFSETTO:+0000
TZNAME:UTC
DTSTART:20200101T000000
END:STANDARD
END:VTIMEZONE
BEGIN:VEVENT
DTSTART;TZID=Australia/Sydney:20221016T093000
DTEND;TZID=Australia/Sydney:20221016T110000
DTSTAMP:20260425T063413
CREATED:20220927T074635Z
LAST-MODIFIED:20220927T074635Z
UID:51789-1665912600-1665918000@ballinasurfclub.com.au
SUMMARY:Nippers Day 1
DESCRIPTION:Nippers is Back! We are welcoming Nippers from Under 6 through to Under 14. to begin what hopes to be a fantastic season ahead.
URL:https://ballinasurfclub.com.au/events/nippers-day-1/
LOCATION:Ballina Lighthouse and Lismore Surf Life Saving Club.\, Lighthouse Parade\, East Ballina\, NSW\, 2478\, Australia
CATEGORIES:Nipper Events
ATTACH;FMTTYPE=image/jpeg:https://ballinasurfclub.com.au/wp-content/uploads/2021/06/eventBG_surfSports3.jpg
ORGANIZER;CN="Armalie Muller":MAILTO:juniors@ballinasurfclub.com.au
END:VEVENT
BEGIN:VEVENT
DTSTART;TZID=Australia/Sydney:20221008T130000
DTEND;TZID=Australia/Sydney:20221008T150000
DTSTAMP:20260425T063413
CREATED:20220927T074324Z
LAST-MODIFIED:20220927T074324Z
UID:51786-1665234000-1665241200@ballinasurfclub.com.au
SUMMARY:Nippers Sign-on & Proficiency
DESCRIPTION:Come along to our second and final Nippers Sign-on and Proficiency day at Alstonville Aquatic Centre on Saturday 8th October from 1pm to 3pm.\nDue to the updated requirements for proficiency this season\, we are no longer able to hold these at Shaws Bay. If you can’t make it to the Proficiency Day\, you will need to contact Junior Activities to find out how this can be completed before you can engage in water activities during Sunday morning Nippers.
URL:https://ballinasurfclub.com.au/events/nippers-sign-on-proficiency/
LOCATION:Alstonville Aquatic Centre\, 15 Alston Avenue\, Alstonville\, New South Wales\, 2477\, Australia
ATTACH;FMTTYPE=image/jpeg:https://ballinasurfclub.com.au/wp-content/uploads/2021/10/sls-17-jpg-scaled.jpg
ORGANIZER;CN="Armalie Muller":MAILTO:juniors@ballinasurfclub.com.au
END:VEVENT
BEGIN:VEVENT
DTSTART;VALUE=DATE:20220304
DTEND;VALUE=DATE:20220307
DTSTAMP:20260425T063413
CREATED:20210628T104451Z
LAST-MODIFIED:20210628T114445Z
UID:51277-1646352000-1646611199@ballinasurfclub.com.au
SUMMARY:2022 NSW Championships U17-Open
DESCRIPTION:The 2022 NSW Surf Life Saving Championships will be hosted by the Sydney Northern Beaches Branch. \nMore information to come closer to the date.
URL:https://ballinasurfclub.com.au/events/2022-nsw-surf-life-saving-championships-u17-open/
LOCATION:Sydney Northern Beaches
CATEGORIES:Beach Events,Water Events
ATTACH;FMTTYPE=image/jpeg:https://ballinasurfclub.com.au/wp-content/uploads/2021/06/eventBG_surfSports1.jpg
END:VEVENT
BEGIN:VEVENT
DTSTART;VALUE=DATE:20220302
DTEND;VALUE=DATE:20220304
DTSTAMP:20260425T063413
CREATED:20210628T104438Z
LAST-MODIFIED:20210628T114517Z
UID:51275-1646179200-1646351999@ballinasurfclub.com.au
SUMMARY:2022 NSW Championships - Masters
DESCRIPTION:The 2022 NSW Surf Life Saving Championships will be hosted by the Sydney Northern Beaches Branch. \nMore information to come closer to the date.
URL:https://ballinasurfclub.com.au/events/2022-nsw-surf-life-saving-championships-masters/
LOCATION:Sydney Northern Beaches
CATEGORIES:Beach Events,Water Events
ATTACH;FMTTYPE=image/jpeg:https://ballinasurfclub.com.au/wp-content/uploads/2021/06/eventBG_surfSports1.jpg
END:VEVENT
BEGIN:VEVENT
DTSTART;VALUE=DATE:20220226
DTEND;VALUE=DATE:20220228
DTSTAMP:20260425T063413
CREATED:20210628T104253Z
LAST-MODIFIED:20210628T114614Z
UID:51273-1645833600-1646006399@ballinasurfclub.com.au
SUMMARY:2022 NSW Championships U13-U15
DESCRIPTION:The 2022 NSW Surf Life Saving Championships will be hosted by the Sydney Northern Beaches Branch. \nMore information to come closer to the date.
URL:https://ballinasurfclub.com.au/events/2022-nsw-surf-life-saving-championships-u13-u15/
LOCATION:Sydney Northern Beaches
CATEGORIES:Beach Events,Water Events
ATTACH;FMTTYPE=image/jpeg:https://ballinasurfclub.com.au/wp-content/uploads/2021/06/eventBG_surfSports3.jpg
END:VEVENT
BEGIN:VEVENT
DTSTART;VALUE=DATE:20220224
DTEND;VALUE=DATE:20220226
DTSTAMP:20260425T063413
CREATED:20210628T102719Z
LAST-MODIFIED:20210628T114634Z
UID:51260-1645660800-1645833599@ballinasurfclub.com.au
SUMMARY:2022 NSW Championships U9-12
DESCRIPTION:The 2022 NSW Surf Life Saving Championships will be hosted by the Sydney Northern Beaches Branch. \nMore information to come closer to the date.
URL:https://ballinasurfclub.com.au/events/2022-nsw-surf-life-saving-championships-u9-12/
LOCATION:Sydney Northern Beaches
CATEGORIES:Beach Events,Water Events
ATTACH;FMTTYPE=image/jpeg:https://ballinasurfclub.com.au/wp-content/uploads/2021/06/eventBG_surfSports2.jpg
END:VEVENT
BEGIN:VEVENT
DTSTART;TZID=Australia/Sydney:20211023T130000
DTEND;TZID=Australia/Sydney:20211023T150000
DTSTAMP:20260425T063413
CREATED:20211020T195641Z
LAST-MODIFIED:20211020T195641Z
UID:51454-1634994000-1635001200@ballinasurfclub.com.au
SUMMARY:Nippers Sign-on
DESCRIPTION:Nippers Sign-on for all New Members and Returning Members will be held at the Clubhouse on Saturday 23 October from 1pm to 3pm. Kid’s Active Vouchers are welcomed. \nRenewing Members are encouraged to wp-signup.php online through the Member’s Portal. https://members.sls.com.au \nOnce final numbers are known\, details regarding start dates can be communicated. \nThere will be Covid Restrictions in place for the sign-on day and moving forward in to the start of the season. All Nippers will need to have an accompanying parent/guardian who is double vaccinated. This is a requirement set by NSW Health and SLSNSW. For those who aren’t double vaccinated\, you’ll be able to commence community sport from 1 December.
URL:https://ballinasurfclub.com.au/events/nippers-sign-on/
LOCATION:Ballina Lighthouse and Lismore Surf Life Saving Club.\, Lighthouse Parade\, East Ballina\, NSW\, 2478\, Australia
CATEGORIES:Club Events,Nipper Events
ATTACH;FMTTYPE=image/jpeg:https://ballinasurfclub.com.au/wp-content/uploads/2021/10/sls-17-jpg-scaled.jpg
ORGANIZER;CN="Armalie Muller":MAILTO:juniors@ballinasurfclub.com.au
END:VEVENT
BEGIN:VEVENT
DTSTART;TZID=Australia/Sydney:20211014T180000
DTEND;TZID=Australia/Sydney:20211014T190000
DTSTAMP:20260425T063413
CREATED:20210927T063005Z
LAST-MODIFIED:20210927T070650Z
UID:51409-1634234400-1634238000@ballinasurfclub.com.au
SUMMARY:Bronze Medallion Information Night
DESCRIPTION:The Bronze Medallion course provides participants with the skills and knowledge in order to be able to participate in Surf Life Saving patrol operations. This is the core award to be a surf lifesaver in Australia. \nBallina Lighthouse & Lismore SLSC are committed to providing our members with the highest quality Training and Education.
URL:https://ballinasurfclub.com.au/events/bronze-medallion-information-night/
LOCATION:Ballina Lighthouse and Lismore Surf Life Saving Club.\, Lighthouse Parade\, East Ballina\, NSW\, 2478\, Australia
CATEGORIES:Club Events
ATTACH;FMTTYPE=image/jpeg:https://ballinasurfclub.com.au/wp-content/uploads/2021/09/img_bmCourseWebsite.jpg
ORGANIZER;CN="Timothy Payne":MAILTO:education@ballinasurfclub.com.au
END:VEVENT
BEGIN:VEVENT
DTSTART;TZID=UTC:20210529T180000
DTEND;TZID=UTC:20210529T233000
DTSTAMP:20260425T063413
CREATED:20210520T023431Z
LAST-MODIFIED:20210520T121824Z
UID:51188-1622311200-1622331000@ballinasurfclub.com.au
SUMMARY:Club Presentation Night
DESCRIPTION:Join us on Saturday 29 May 2021 at 6pm for our Annual Club Presentation Dinner. \nCost: $20 per person (No cost to Life Members) payable via the SLS Members Portal.\nIncludes 3 course dinner and 2 drink vouchers. \nBar facilities will be available.
URL:https://ballinasurfclub.com.au/events/club-presentation-night/
LOCATION:Ballina Lighthouse and Lismore Surf Life Saving Club.\, Lighthouse Parade\, East Ballina\, NSW\, 2478\, Australia
CATEGORIES:Club Events
ATTACH;FMTTYPE=image/jpeg:https://ballinasurfclub.com.au/wp-content/uploads/2021/05/IMG_packupSeason.jpg
ORGANIZER;CN="Andrew Dougherty":MAILTO:publicofficer@ballinasurfclub.com.au
END:VEVENT
BEGIN:VEVENT
DTSTART;TZID=UTC:20210506T080000
DTEND;TZID=UTC:20210506T170000
DTSTAMP:20260425T063413
CREATED:20210413T043229Z
LAST-MODIFIED:20210413T043238Z
UID:50808-1620288000-1620320400@ballinasurfclub.com.au
SUMMARY:Example Event 7
DESCRIPTION:Donec interdum molestie vulputate. Proin malesuada nisi justo\, sit amet cursus risus gravida sit amet. Donec tristique lacus nec diam condimentum\, vel interdum nisi consectetur. Nulla egestas sagittis tincidunt. Donec interdum diam vitae velit lacinia imperdiet. Fusce et aliquam sapien\, in tincidunt mi. Donec in enim in quam viverra sagittis ac non nisl. Sed orci leo\, maximus id vulputate sed\, euismod nec justo. Vivamus viverra lobortis sem\, eu pretium neque euismod non. Proin pellentesque non mauris eu tempor. Nunc aliquet nisi vel purus pulvinar\, ullamcorper gravida sem euismod. Vivamus tristique dolor quis rutrum mattis. Ut sodales est rhoncus mollis gravida. Suspendisse efficitur eros eu gravida tincidunt.
URL:https://ballinasurfclub.com.au/events/example-event-7/
LOCATION:Ballina Lighthouse and Lismore Surf Life Saving Club.\, Lighthouse Parade\, East Ballina\, NSW\, 2478\, Australia
CATEGORIES:Water Events
ATTACH;FMTTYPE=image/jpeg:https://ballinasurfclub.com.au/wp-content/uploads/2020/12/images.jpeg
END:VEVENT
BEGIN:VEVENT
DTSTART;TZID=UTC:20210506T080000
DTEND;TZID=UTC:20210506T170000
DTSTAMP:20260425T063413
CREATED:20210413T043134Z
LAST-MODIFIED:20210413T043143Z
UID:50806-1620288000-1620320400@ballinasurfclub.com.au
SUMMARY:Example Event 6
DESCRIPTION:Donec interdum molestie vulputate. Proin malesuada nisi justo\, sit amet cursus risus gravida sit amet. Donec tristique lacus nec diam condimentum\, vel interdum nisi consectetur. Nulla egestas sagittis tincidunt. Donec interdum diam vitae velit lacinia imperdiet. Fusce et aliquam sapien\, in tincidunt mi. Donec in enim in quam viverra sagittis ac non nisl. Sed orci leo\, maximus id vulputate sed\, euismod nec justo. Vivamus viverra lobortis sem\, eu pretium neque euismod non. Proin pellentesque non mauris eu tempor. Nunc aliquet nisi vel purus pulvinar\, ullamcorper gravida sem euismod. Vivamus tristique dolor quis rutrum mattis. Ut sodales est rhoncus mollis gravida. Suspendisse efficitur eros eu gravida tincidunt.
URL:https://ballinasurfclub.com.au/events/example-event-6/
LOCATION:Ballina Lighthouse and Lismore Surf Life Saving Club.\, Lighthouse Parade\, East Ballina\, NSW\, 2478\, Australia
CATEGORIES:Water Events
ATTACH;FMTTYPE=image/jpeg:https://ballinasurfclub.com.au/wp-content/uploads/2020/12/images.jpeg
END:VEVENT
BEGIN:VEVENT
DTSTART;TZID=UTC:20210506T080000
DTEND;TZID=UTC:20210506T170000
DTSTAMP:20260425T063413
CREATED:20210413T043116Z
LAST-MODIFIED:20210413T043132Z
UID:50804-1620288000-1620320400@ballinasurfclub.com.au
SUMMARY:Example Event 5
DESCRIPTION:Donec interdum molestie vulputate. Proin malesuada nisi justo\, sit amet cursus risus gravida sit amet. Donec tristique lacus nec diam condimentum\, vel interdum nisi consectetur. Nulla egestas sagittis tincidunt. Donec interdum diam vitae velit lacinia imperdiet. Fusce et aliquam sapien\, in tincidunt mi. Donec in enim in quam viverra sagittis ac non nisl. Sed orci leo\, maximus id vulputate sed\, euismod nec justo. Vivamus viverra lobortis sem\, eu pretium neque euismod non. Proin pellentesque non mauris eu tempor. Nunc aliquet nisi vel purus pulvinar\, ullamcorper gravida sem euismod. Vivamus tristique dolor quis rutrum mattis. Ut sodales est rhoncus mollis gravida. Suspendisse efficitur eros eu gravida tincidunt.
URL:https://ballinasurfclub.com.au/events/example-event-5/
LOCATION:Ballina Lighthouse and Lismore Surf Life Saving Club.\, Lighthouse Parade\, East Ballina\, NSW\, 2478\, Australia
CATEGORIES:Water Events
ATTACH;FMTTYPE=image/jpeg:https://ballinasurfclub.com.au/wp-content/uploads/2020/12/images.jpeg
END:VEVENT
BEGIN:VEVENT
DTSTART;TZID=UTC:20210506T080000
DTEND;TZID=UTC:20210506T170000
DTSTAMP:20260425T063413
CREATED:20201221T134156Z
LAST-MODIFIED:20210414T034445Z
UID:50200-1620288000-1620320400@ballinasurfclub.com.au
SUMMARY:Example Event 1
DESCRIPTION:Donec interdum molestie vulputate. Proin malesuada nisi justo\, sit amet cursus risus gravida sit amet. Donec tristique lacus nec diam condimentum\, vel interdum nisi consectetur. Nulla egestas sagittis tincidunt. Donec interdum diam vitae velit lacinia imperdiet. Fusce et aliquam sapien\, in tincidunt mi. Donec in enim in quam viverra sagittis ac non nisl. Sed orci leo\, maximus id vulputate sed\, euismod nec justo. Vivamus viverra lobortis sem\, eu pretium neque euismod non. Proin pellentesque non mauris eu tempor. Nunc aliquet nisi vel purus pulvinar\, ullamcorper gravida sem euismod. Vivamus tristique dolor quis rutrum mattis. Ut sodales est rhoncus mollis gravida. Suspendisse efficitur eros eu gravida tincidunt.
URL:https://ballinasurfclub.com.au/events/excepteur-sintamo/
LOCATION:Ballina Lighthouse and Lismore Surf Life Saving Club.\, Lighthouse Parade\, East Ballina\, NSW\, 2478\, Australia
CATEGORIES:Water Events
ATTACH;FMTTYPE=image/png:https://ballinasurfclub.com.au/wp-content/uploads/2021/04/Nippers-Thumbnail.png
END:VEVENT
BEGIN:VEVENT
DTSTART;TZID=UTC:20210501T080000
DTEND;TZID=UTC:20210501T170000
DTSTAMP:20260425T063413
CREATED:20201221T134924Z
LAST-MODIFIED:20210412T224549Z
UID:50205-1619856000-1619888400@ballinasurfclub.com.au
SUMMARY:Example Event 3
DESCRIPTION:Donec interdum molestie vulputate. Proin malesuada nisi justo\, sit amet cursus risus gravida sit amet. Donec tristique lacus nec diam condimentum\, vel interdum nisi consectetur. Nulla egestas sagittis tincidunt. Donec interdum diam vitae velit lacinia imperdiet. Fusce et aliquam sapien\, in tincidunt mi. Donec in enim in quam viverra sagittis ac non nisl. Sed orci leo\, maximus id vulputate sed\, euismod nec justo. Vivamus viverra lobortis sem\, eu pretium neque euismod non. Proin pellentesque non mauris eu tempor. Nunc aliquet nisi vel purus pulvinar\, ullamcorper gravida sem euismod. Vivamus tristique dolor quis rutrum mattis. Ut sodales est rhoncus mollis gravida. Suspendisse efficitur eros eu gravida tincidunt.
URL:https://ballinasurfclub.com.au/events/excepteur-sintamo-3/
LOCATION:Ballina Lighthouse and Lismore Surf Life Saving Club.\, Lighthouse Parade\, East Ballina\, NSW\, 2478\, Australia
CATEGORIES:Water Events
ATTACH;FMTTYPE=image/jpeg:https://ballinasurfclub.com.au/wp-content/uploads/2020/12/Surf-Sports-Lifesaving-11.jpg
END:VEVENT
BEGIN:VEVENT
DTSTART;TZID=UTC:20210501T080000
DTEND;TZID=UTC:20210501T170000
DTSTAMP:20260425T063413
CREATED:20201221T134607Z
LAST-MODIFIED:20210412T224611Z
UID:50203-1619856000-1619888400@ballinasurfclub.com.au
SUMMARY:Example Event 4
DESCRIPTION:Donec interdum molestie vulputate. Proin malesuada nisi justo\, sit amet cursus risus gravida sit amet. Donec tristique lacus nec diam condimentum\, vel interdum nisi consectetur. Nulla egestas sagittis tincidunt. Donec interdum diam vitae velit lacinia imperdiet. Fusce et aliquam sapien\, in tincidunt mi. Donec in enim in quam viverra sagittis ac non nisl. Sed orci leo\, maximus id vulputate sed\, euismod nec justo. Vivamus viverra lobortis sem\, eu pretium neque euismod non. Proin pellentesque non mauris eu tempor. Nunc aliquet nisi vel purus pulvinar\, ullamcorper gravida sem euismod. Vivamus tristique dolor quis rutrum mattis. Ut sodales est rhoncus mollis gravida. Suspendisse efficitur eros eu gravida tincidunt.
URL:https://ballinasurfclub.com.au/events/excepteur-sintamo-2/
LOCATION:Ballina Lighthouse and Lismore Surf Life Saving Club.\, Lighthouse Parade\, East Ballina\, NSW\, 2478\, Australia
CATEGORIES:Water Events
ATTACH;FMTTYPE=image/jpeg:https://ballinasurfclub.com.au/wp-content/uploads/2020/12/b88317075z1_20160909182347_000gvta9ui52-0-ilxt4e9797f74vi3vm2_t1880.jpg
END:VEVENT
BEGIN:VEVENT
DTSTART;TZID=UTC:20210430T080000
DTEND;TZID=UTC:20210430T170000
DTSTAMP:20260425T063413
CREATED:20201221T135020Z
LAST-MODIFIED:20210429T213816Z
UID:50207-1619769600-1619802000@ballinasurfclub.com.au
SUMMARY:Example Event 2
DESCRIPTION:Donec interdum molestie vulputate. Proin malesuada nisi justo\, sit amet cursus risus gravida sit amet. Donec tristique lacus nec diam condimentum\, vel interdum nisi consectetur. Nulla egestas sagittis tincidunt. Donec interdum diam vitae velit lacinia imperdiet. Fusce et aliquam sapien\, in tincidunt mi. Donec in enim in quam viverra sagittis ac non nisl. Sed orci leo\, maximus id vulputate sed\, euismod nec justo. Vivamus viverra lobortis sem\, eu pretium neque euismod non. Proin pellentesque non mauris eu tempor. Nunc aliquet nisi vel purus pulvinar\, ullamcorper gravida sem euismod. Vivamus tristique dolor quis rutrum mattis. Ut sodales est rhoncus mollis gravida. Suspendisse efficitur eros eu gravida tincidunt.
URL:https://ballinasurfclub.com.au/events/excepteur-sintamo-4/
LOCATION:Ballina Lighthouse and Lismore Surf Life Saving Club.\, Lighthouse Parade\, East Ballina\, NSW\, 2478\, Australia
CATEGORIES:Beach Events
ATTACH;FMTTYPE=image/jpeg:https://ballinasurfclub.com.au/wp-content/uploads/2020/12/Event-Image-sample2.jpeg
END:VEVENT
END:VCALENDAR